BEGIN:VCALENDAR
VERSION:2.0
PRODID:-//Saint Anne&#039;s Day School &amp; Enrichment Programs - ECPv6.15.20//NONSGML v1.0//EN
CALSCALE:GREGORIAN
METHOD:PUBLISH
X-WR-CALNAME:Saint Anne&#039;s Day School &amp; Enrichment Programs
X-ORIGINAL-URL:https://www.saintannesdayschool.com
X-WR-CALDESC:Events for Saint Anne&#039;s Day School &amp; Enrichment Programs
REFRESH-INTERVAL;VALUE=DURATION:PT1H
X-Robots-Tag:noindex
X-PUBLISHED-TTL:PT1H
BEGIN:VTIMEZONE
TZID:America/New_York
BEGIN:DAYLIGHT
TZOFFSETFROM:-0500
TZOFFSETTO:-0400
TZNAME:EDT
DTSTART:20210314T070000
END:DAYLIGHT
BEGIN:STANDARD
TZOFFSETFROM:-0400
TZOFFSETTO:-0500
TZNAME:EST
DTSTART:20211107T060000
END:STANDARD
BEGIN:DAYLIGHT
TZOFFSETFROM:-0500
TZOFFSETTO:-0400
TZNAME:EDT
DTSTART:20220313T070000
END:DAYLIGHT
BEGIN:STANDARD
TZOFFSETFROM:-0400
TZOFFSETTO:-0500
TZNAME:EST
DTSTART:20221106T060000
END:STANDARD
BEGIN:DAYLIGHT
TZOFFSETFROM:-0500
TZOFFSETTO:-0400
TZNAME:EDT
DTSTART:20230312T070000
END:DAYLIGHT
BEGIN:STANDARD
TZOFFSETFROM:-0400
TZOFFSETTO:-0500
TZNAME:EST
DTSTART:20231105T060000
END:STANDARD
BEGIN:DAYLIGHT
TZOFFSETFROM:-0500
TZOFFSETTO:-0400
TZNAME:EDT
DTSTART:20240310T070000
END:DAYLIGHT
BEGIN:STANDARD
TZOFFSETFROM:-0400
TZOFFSETTO:-0500
TZNAME:EST
DTSTART:20241103T060000
END:STANDARD
BEGIN:DAYLIGHT
TZOFFSETFROM:-0500
TZOFFSETTO:-0400
TZNAME:EDT
DTSTART:20250309T070000
END:DAYLIGHT
BEGIN:STANDARD
TZOFFSETFROM:-0400
TZOFFSETTO:-0500
TZNAME:EST
DTSTART:20251102T060000
END:STANDARD
BEGIN:DAYLIGHT
TZOFFSETFROM:-0500
TZOFFSETTO:-0400
TZNAME:EDT
DTSTART:20260308T070000
END:DAYLIGHT
BEGIN:STANDARD
TZOFFSETFROM:-0400
TZOFFSETTO:-0500
TZNAME:EST
DTSTART:20261101T060000
END:STANDARD
END:VTIMEZONE
BEGIN:VEVENT
DTSTART;TZID=America/New_York:20250418T000000
DTEND;TZID=America/New_York:20250418T235959
DTSTAMP:20260421T221303
CREATED:20240819T020159Z
LAST-MODIFIED:20240819T020200Z
UID:5214-1744934400-1745020799@www.saintannesdayschool.com
SUMMARY:Easter Holiday (School Closed)
DESCRIPTION:
URL:https://www.saintannesdayschool.com/event/easter-holiday-school-closed/
END:VEVENT
BEGIN:VEVENT
DTSTART;TZID=America/New_York:20250407T000000
DTEND;TZID=America/New_York:20250411T235959
DTSTAMP:20260421T221303
CREATED:20240819T020120Z
LAST-MODIFIED:20240819T020121Z
UID:5212-1743984000-1744415999@www.saintannesdayschool.com
SUMMARY:Spring Break (School Closed)
DESCRIPTION:
URL:https://www.saintannesdayschool.com/event/spring-break-school-closed/
END:VEVENT
BEGIN:VEVENT
DTSTART;TZID=America/New_York:20250303T000000
DTEND;TZID=America/New_York:20250307T235959
DTSTAMP:20260421T221303
CREATED:20240819T020629Z
LAST-MODIFIED:20240819T020630Z
UID:5236-1740960000-1741391999@www.saintannesdayschool.com
SUMMARY:Winter Break (Day School Closed)
DESCRIPTION:
URL:https://www.saintannesdayschool.com/event/winter-break-day-school-closed-2/
END:VEVENT
BEGIN:VEVENT
DTSTART;TZID=America/New_York:20250218T000000
DTEND;TZID=America/New_York:20250218T235959
DTSTAMP:20260421T221303
CREATED:20240819T020048Z
LAST-MODIFIED:20240819T020049Z
UID:5210-1739836800-1739923199@www.saintannesdayschool.com
SUMMARY:Educator Work Day\, School Closed
DESCRIPTION:
URL:https://www.saintannesdayschool.com/event/educator-work-day-school-closed/
END:VEVENT
BEGIN:VEVENT
DTSTART;TZID=America/New_York:20250217T000000
DTEND;TZID=America/New_York:20250217T235959
DTSTAMP:20260421T221303
CREATED:20240819T020018Z
LAST-MODIFIED:20240819T020019Z
UID:5208-1739750400-1739836799@www.saintannesdayschool.com
SUMMARY:School Closed
DESCRIPTION:
URL:https://www.saintannesdayschool.com/event/school-closed/
END:VEVENT
BEGIN:VEVENT
DTSTART;TZID=America/New_York:20250120T000000
DTEND;TZID=America/New_York:20250120T235959
DTSTAMP:20260421T221303
CREATED:20240819T020602Z
LAST-MODIFIED:20240819T020603Z
UID:5234-1737331200-1737417599@www.saintannesdayschool.com
SUMMARY:Martin Luther King\, Jr. Day (School Closed)
DESCRIPTION:
URL:https://www.saintannesdayschool.com/event/martin-luther-king-jr-day-school-closed-2/
END:VEVENT
BEGIN:VEVENT
DTSTART;TZID=America/New_York:20250107T000000
DTEND;TZID=America/New_York:20250107T235959
DTSTAMP:20260421T221303
CREATED:20240819T020540Z
LAST-MODIFIED:20240819T020541Z
UID:5232-1736208000-1736294399@www.saintannesdayschool.com
SUMMARY:Day School Programs Resume
DESCRIPTION:
URL:https://www.saintannesdayschool.com/event/day-school-programs-resume/
END:VEVENT
BEGIN:VEVENT
DTSTART;TZID=America/New_York:20250106T000000
DTEND;TZID=America/New_York:20250106T235959
DTSTAMP:20260421T221303
CREATED:20240819T020520Z
LAST-MODIFIED:20240819T020520Z
UID:5230-1736121600-1736207999@www.saintannesdayschool.com
SUMMARY:Educator Work Day
DESCRIPTION:
URL:https://www.saintannesdayschool.com/event/educator-work-day-3/
END:VEVENT
BEGIN:VEVENT
DTSTART;TZID=America/New_York:20241220T000000
DTEND;TZID=America/New_York:20241220T235959
DTSTAMP:20260421T221303
CREATED:20240819T015949Z
LAST-MODIFIED:20240819T015949Z
UID:5206-1734652800-1734739199@www.saintannesdayschool.com
SUMMARY:Christmas Break Begins
DESCRIPTION:
URL:https://www.saintannesdayschool.com/event/christmas-break-begins/
END:VEVENT
BEGIN:VEVENT
DTSTART;TZID=America/New_York:20241219T000000
DTEND;TZID=America/New_York:20241219T235959
DTSTAMP:20260421T221303
CREATED:20240819T015821Z
LAST-MODIFIED:20240819T015822Z
UID:5203-1734566400-1734652799@www.saintannesdayschool.com
SUMMARY:Last Day of School
DESCRIPTION:
URL:https://www.saintannesdayschool.com/event/last-day-of-school-2/
END:VEVENT
BEGIN:VEVENT
DTSTART;TZID=America/New_York:20241218T000000
DTEND;TZID=America/New_York:20241218T235959
DTSTAMP:20260421T221303
CREATED:20240819T015749Z
LAST-MODIFIED:20240819T015912Z
UID:5201-1734480000-1734566399@www.saintannesdayschool.com
SUMMARY:Last Day of After School Programs for Day School Before Christmas Break
DESCRIPTION:
URL:https://www.saintannesdayschool.com/event/last-day-of-after-school-programs-for-day-school-before-christmas-break/
END:VEVENT
BEGIN:VEVENT
DTSTART;TZID=America/New_York:20241213T000000
DTEND;TZID=America/New_York:20241213T235959
DTSTAMP:20260421T221303
CREATED:20240819T015639Z
LAST-MODIFIED:20240819T015640Z
UID:5199-1734048000-1734134399@www.saintannesdayschool.com
SUMMARY:PK/TK Christmas Program
DESCRIPTION:
URL:https://www.saintannesdayschool.com/event/pk-tk-christmas-program/
END:VEVENT
BEGIN:VEVENT
DTSTART;TZID=America/New_York:20241125T000000
DTEND;TZID=America/New_York:20241129T235959
DTSTAMP:20260421T221303
CREATED:20240819T020459Z
LAST-MODIFIED:20240819T020500Z
UID:5228-1732492800-1732924799@www.saintannesdayschool.com
SUMMARY:Thanksgiving Break (School Closed)
DESCRIPTION:
URL:https://www.saintannesdayschool.com/event/thanksgiving-break-school-closed-4/
END:VEVENT
BEGIN:VEVENT
DTSTART;TZID=America/New_York:20241105T000000
DTEND;TZID=America/New_York:20241106T235959
DTSTAMP:20260421T221303
CREATED:20240819T020431Z
LAST-MODIFIED:20240819T020432Z
UID:5226-1730764800-1730937599@www.saintannesdayschool.com
SUMMARY:Parent Conferences (Day School Closed)
DESCRIPTION:
URL:https://www.saintannesdayschool.com/event/parent-conferences-day-school-closed/
END:VEVENT
BEGIN:VEVENT
DTSTART;TZID=America/New_York:20241104T000000
DTEND;TZID=America/New_York:20241104T235959
DTSTAMP:20260421T221303
CREATED:20240819T020405Z
LAST-MODIFIED:20240819T020406Z
UID:5224-1730678400-1730764799@www.saintannesdayschool.com
SUMMARY:Educator Work Day (Day School Closed)
DESCRIPTION:
URL:https://www.saintannesdayschool.com/event/educator-work-day-day-school-closed-3/
END:VEVENT
BEGIN:VEVENT
DTSTART;TZID=America/New_York:20241014T000000
DTEND;TZID=America/New_York:20241015T235959
DTSTAMP:20260421T221303
CREATED:20240816T165727Z
LAST-MODIFIED:20240816T165728Z
UID:5186-1728864000-1729036799@www.saintannesdayschool.com
SUMMARY:Fall Break (School Closed)
DESCRIPTION:
URL:https://www.saintannesdayschool.com/event/fall-break-school-closed-5/
END:VEVENT
BEGIN:VEVENT
DTSTART;TZID=America/New_York:20240927T000000
DTEND;TZID=America/New_York:20240927T235959
DTSTAMP:20260421T221303
CREATED:20240819T020338Z
LAST-MODIFIED:20240819T020339Z
UID:5222-1727395200-1727481599@www.saintannesdayschool.com
SUMMARY:Educator Work Day (Day School Closed) 
DESCRIPTION:
URL:https://www.saintannesdayschool.com/event/educator-work-day-day-school-closed-2/
END:VEVENT
BEGIN:VEVENT
DTSTART;TZID=America/New_York:20240926T000000
DTEND;TZID=America/New_York:20240926T235959
DTSTAMP:20260421T221303
CREATED:20240819T020319Z
LAST-MODIFIED:20240819T020320Z
UID:5220-1727308800-1727395199@www.saintannesdayschool.com
SUMMARY:Parent Night
DESCRIPTION:
URL:https://www.saintannesdayschool.com/event/parent-night-2/
END:VEVENT
BEGIN:VEVENT
DTSTART;TZID=America/New_York:20240902T000000
DTEND;TZID=America/New_York:20240902T235959
DTSTAMP:20260421T221303
CREATED:20240819T020302Z
LAST-MODIFIED:20240819T020303Z
UID:5218-1725235200-1725321599@www.saintannesdayschool.com
SUMMARY:Labor Day (School Closed)
DESCRIPTION:
URL:https://www.saintannesdayschool.com/event/labor-day-school-closed-4/
END:VEVENT
BEGIN:VEVENT
DTSTART;TZID=America/New_York:20240821T000000
DTEND;TZID=America/New_York:20240821T235959
DTSTAMP:20260421T221303
CREATED:20240816T165235Z
LAST-MODIFIED:20240816T165457Z
UID:5184-1724198400-1724284799@www.saintannesdayschool.com
SUMMARY:First Day of School
DESCRIPTION:
URL:https://www.saintannesdayschool.com/event/first-day-of-school-4/
END:VEVENT
BEGIN:VEVENT
DTSTART;TZID=America/New_York:20240819T120000
DTEND;TZID=America/New_York:20240820T120000
DTSTAMP:20260421T221303
CREATED:20240816T165123Z
LAST-MODIFIED:20240816T165123Z
UID:5182-1724068800-1724155200@www.saintannesdayschool.com
SUMMARY:Parent Sharing and Classroom Visits
DESCRIPTION:
URL:https://www.saintannesdayschool.com/event/parent-sharing-and-classroom-visits/
END:VEVENT
BEGIN:VEVENT
DTSTART;TZID=America/New_York:20240818T000000
DTEND;TZID=America/New_York:20240818T235959
DTSTAMP:20260421T221303
CREATED:20240808T041654Z
LAST-MODIFIED:20240808T041720Z
UID:5069-1723939200-1724025599@www.saintannesdayschool.com
SUMMARY:Newcomer Family Popsicle Parties
DESCRIPTION:
URL:https://www.saintannesdayschool.com/event/newcomer-family-popsicle-parties/
END:VEVENT
BEGIN:VEVENT
DTSTART;TZID=America/New_York:20220527T033000
DTEND;TZID=America/New_York:20220527T140000
DTSTAMP:20260421T221303
CREATED:20210322T182307Z
LAST-MODIFIED:20220118T200729Z
UID:3423-1653622200-1653660000@www.saintannesdayschool.com
SUMMARY:Educator Work Day
DESCRIPTION:
URL:https://www.saintannesdayschool.com/event/educator-work-day-2/
END:VEVENT
BEGIN:VEVENT
DTSTART;TZID=America/New_York:20220526T033000
DTEND;TZID=America/New_York:20220526T140000
DTSTAMP:20260421T221303
CREATED:20210322T182240Z
LAST-MODIFIED:20220118T200528Z
UID:3421-1653535800-1653573600@www.saintannesdayschool.com
SUMMARY:Last Day of After School
DESCRIPTION:
URL:https://www.saintannesdayschool.com/event/last-day-of-after-school-7/
END:VEVENT
BEGIN:VEVENT
DTSTART;TZID=America/New_York:20220526T033000
DTEND;TZID=America/New_York:20220526T140000
DTSTAMP:20260421T221303
CREATED:20210322T181753Z
LAST-MODIFIED:20220118T200451Z
UID:3418-1653535800-1653573600@www.saintannesdayschool.com
SUMMARY:Educator Work Day
DESCRIPTION:
URL:https://www.saintannesdayschool.com/event/educator-work-day/
END:VEVENT
BEGIN:VEVENT
DTSTART;TZID=America/New_York:20220525T033000
DTEND;TZID=America/New_York:20220525T140000
DTSTAMP:20260421T221303
CREATED:20210322T181722Z
LAST-MODIFIED:20220118T200613Z
UID:3416-1653449400-1653487200@www.saintannesdayschool.com
SUMMARY:Last Day of Day School
DESCRIPTION:
URL:https://www.saintannesdayschool.com/event/last-day-of-day-school-5/
END:VEVENT
BEGIN:VEVENT
DTSTART;TZID=America/New_York:20220418T033000
DTEND;TZID=America/New_York:20220418T140000
DTSTAMP:20260421T221303
CREATED:20210322T181650Z
LAST-MODIFIED:20220118T200239Z
UID:3414-1650252600-1650290400@www.saintannesdayschool.com
SUMMARY:Easter Monday (Day School Closed/After School Open)
DESCRIPTION:
URL:https://www.saintannesdayschool.com/event/easter-monday-day-school-closed-after-school-open-2/
END:VEVENT
BEGIN:VEVENT
DTSTART;TZID=America/New_York:20220415T033000
DTEND;TZID=America/New_York:20220415T140000
DTSTAMP:20260421T221303
CREATED:20210322T181610Z
LAST-MODIFIED:20220118T200041Z
UID:3412-1649993400-1650031200@www.saintannesdayschool.com
SUMMARY:Good Friday (Day School/After School Closed)
DESCRIPTION:
URL:https://www.saintannesdayschool.com/event/good-friday-day-school-after-school-closed/
END:VEVENT
BEGIN:VEVENT
DTSTART;TZID=America/New_York:20220403T200000
DTEND;TZID=America/New_York:20220408T195900
DTSTAMP:20260421T221303
CREATED:20210322T181521Z
LAST-MODIFIED:20220118T195959Z
UID:3410-1649016000-1649447940@www.saintannesdayschool.com
SUMMARY:Spring Break (Day School Closed/After School Closed)
DESCRIPTION:
URL:https://www.saintannesdayschool.com/event/spring-break-day-school-after-school-closed/
END:VEVENT
BEGIN:VEVENT
DTSTART;TZID=America/New_York:20220318T033000
DTEND;TZID=America/New_York:20220318T140000
DTSTAMP:20260421T221303
CREATED:20210430T185514Z
LAST-MODIFIED:20220118T195519Z
UID:3433-1647574200-1647612000@www.saintannesdayschool.com
SUMMARY:Educator Professional Development Day - Day School Closed
DESCRIPTION:
URL:https://www.saintannesdayschool.com/event/educator-professional-development-day-day-school-closed-3/
END:VEVENT
END:VCALENDAR