BEGIN:VCALENDAR
VERSION:2.0
PRODID:-//Saint Anne&#039;s Day School &amp; Enrichment Programs - ECPv6.15.20//NONSGML v1.0//EN
CALSCALE:GREGORIAN
METHOD:PUBLISH
X-WR-CALNAME:Saint Anne&#039;s Day School &amp; Enrichment Programs
X-ORIGINAL-URL:https://www.saintannesdayschool.com
X-WR-CALDESC:Events for Saint Anne&#039;s Day School &amp; Enrichment Programs
REFRESH-INTERVAL;VALUE=DURATION:PT1H
X-Robots-Tag:noindex
X-PUBLISHED-TTL:PT1H
BEGIN:VTIMEZONE
TZID:America/New_York
BEGIN:DAYLIGHT
TZOFFSETFROM:-0500
TZOFFSETTO:-0400
TZNAME:EDT
DTSTART:20240310T070000
END:DAYLIGHT
BEGIN:STANDARD
TZOFFSETFROM:-0400
TZOFFSETTO:-0500
TZNAME:EST
DTSTART:20241103T060000
END:STANDARD
BEGIN:DAYLIGHT
TZOFFSETFROM:-0500
TZOFFSETTO:-0400
TZNAME:EDT
DTSTART:20250309T070000
END:DAYLIGHT
BEGIN:STANDARD
TZOFFSETFROM:-0400
TZOFFSETTO:-0500
TZNAME:EST
DTSTART:20251102T060000
END:STANDARD
BEGIN:DAYLIGHT
TZOFFSETFROM:-0500
TZOFFSETTO:-0400
TZNAME:EDT
DTSTART:20260308T070000
END:DAYLIGHT
BEGIN:STANDARD
TZOFFSETFROM:-0400
TZOFFSETTO:-0500
TZNAME:EST
DTSTART:20261101T060000
END:STANDARD
BEGIN:DAYLIGHT
TZOFFSETFROM:-0500
TZOFFSETTO:-0400
TZNAME:EDT
DTSTART:20270314T070000
END:DAYLIGHT
BEGIN:STANDARD
TZOFFSETFROM:-0400
TZOFFSETTO:-0500
TZNAME:EST
DTSTART:20271107T060000
END:STANDARD
END:VTIMEZONE
BEGIN:VEVENT
DTSTART;TZID=America/New_York:20260406T000000
DTEND;TZID=America/New_York:20260410T235959
DTSTAMP:20260421T201728
CREATED:20250820T163417Z
LAST-MODIFIED:20250820T163418Z
UID:5839-1775433600-1775865599@www.saintannesdayschool.com
SUMMARY:Spring Break
DESCRIPTION:(Day School and All Enrichment Programs Closed)
URL:https://www.saintannesdayschool.com/event/spring-break-2/
END:VEVENT
BEGIN:VEVENT
DTSTART;TZID=America/New_York:20260403T000000
DTEND;TZID=America/New_York:20260403T235959
DTSTAMP:20260421T201728
CREATED:20250820T163338Z
LAST-MODIFIED:20250820T163339Z
UID:5837-1775174400-1775260799@www.saintannesdayschool.com
SUMMARY:Good Friday
DESCRIPTION:(Day School and All Enrichment Programs Closed)
URL:https://www.saintannesdayschool.com/event/good-friday/
END:VEVENT
BEGIN:VEVENT
DTSTART;TZID=America/New_York:20260321T000000
DTEND;TZID=America/New_York:20260321T235959
DTSTAMP:20260421T201728
CREATED:20250820T163308Z
LAST-MODIFIED:20250820T163309Z
UID:5835-1774051200-1774137599@www.saintannesdayschool.com
SUMMARY:Spring Soirée
DESCRIPTION:
URL:https://www.saintannesdayschool.com/event/spring-soiree-3/
END:VEVENT
BEGIN:VEVENT
DTSTART;TZID=America/New_York:20260302T000000
DTEND;TZID=America/New_York:20260306T235959
DTSTAMP:20260421T201728
CREATED:20250820T163245Z
LAST-MODIFIED:20250820T163246Z
UID:5833-1772409600-1772841599@www.saintannesdayschool.com
SUMMARY:Winter Break
DESCRIPTION:(Day School closed; Enrichment Programs – Weekly/Group 1 and School Age open)
URL:https://www.saintannesdayschool.com/event/winter-break-2/
END:VEVENT
BEGIN:VEVENT
DTSTART;TZID=America/New_York:20260219T000000
DTEND;TZID=America/New_York:20260219T235959
DTSTAMP:20260421T201728
CREATED:20250820T163201Z
LAST-MODIFIED:20250820T163202Z
UID:5831-1771459200-1771545599@www.saintannesdayschool.com
SUMMARY:Registration for Spring Specials Classes opens
DESCRIPTION:
URL:https://www.saintannesdayschool.com/event/registration-for-spring-specials-classes-opens/
END:VEVENT
BEGIN:VEVENT
DTSTART;TZID=America/New_York:20260217T000000
DTEND;TZID=America/New_York:20260217T235959
DTSTAMP:20260421T201728
CREATED:20250820T163003Z
LAST-MODIFIED:20250820T163004Z
UID:5827-1771286400-1771372799@www.saintannesdayschool.com
SUMMARY:Educator Work Day
DESCRIPTION:(Day School and All Enrichment Programs Closed)
URL:https://www.saintannesdayschool.com/event/educator-work-day-6/
END:VEVENT
BEGIN:VEVENT
DTSTART;TZID=America/New_York:20260216T000000
DTEND;TZID=America/New_York:20260216T235959
DTSTAMP:20260421T201728
CREATED:20250820T162936Z
LAST-MODIFIED:20250820T162938Z
UID:5825-1771200000-1771286399@www.saintannesdayschool.com
SUMMARY:Presidents' Day
DESCRIPTION:(Day School and All Enrichment Programs Closed)
URL:https://www.saintannesdayschool.com/event/presidents-day/
END:VEVENT
BEGIN:VEVENT
DTSTART;TZID=America/New_York:20260213T090000
DTEND;TZID=America/New_York:20260213T100000
DTSTAMP:20260421T201728
CREATED:20250820T162841Z
LAST-MODIFIED:20250820T162842Z
UID:5823-1770973200-1770976800@www.saintannesdayschool.com
SUMMARY:Sweetheart Breakfast (Threes/MA/PK/TK)
DESCRIPTION:
URL:https://www.saintannesdayschool.com/event/sweetheart-breakfast-threes-ma-pk-tk/
END:VEVENT
BEGIN:VEVENT
DTSTART;TZID=America/New_York:20260119T000000
DTEND;TZID=America/New_York:20260119T235959
DTSTAMP:20260421T201728
CREATED:20250820T162754Z
LAST-MODIFIED:20250820T162756Z
UID:5821-1768780800-1768867199@www.saintannesdayschool.com
SUMMARY:Martin Luther King\, Jr. Holiday
DESCRIPTION:(Day School and All Enrichment Programs Closed)
URL:https://www.saintannesdayschool.com/event/martin-luther-king-jr-holiday/
END:VEVENT
BEGIN:VEVENT
DTSTART;TZID=America/New_York:20260106T000000
DTEND;TZID=America/New_York:20260106T235959
DTSTAMP:20260421T201728
CREATED:20250820T162725Z
LAST-MODIFIED:20250820T162726Z
UID:5819-1767657600-1767743999@www.saintannesdayschool.com
SUMMARY:Day School and Enrichment Programs Resume
DESCRIPTION:
URL:https://www.saintannesdayschool.com/event/day-school-and-enrichment-programs-resume/
END:VEVENT
BEGIN:VEVENT
DTSTART;TZID=America/New_York:20260105T000000
DTEND;TZID=America/New_York:20260105T235959
DTSTAMP:20260421T201728
CREATED:20250820T162702Z
LAST-MODIFIED:20250820T163023Z
UID:5817-1767571200-1767657599@www.saintannesdayschool.com
SUMMARY:Educator Work Day
DESCRIPTION:(Day School and All Enrichment Programs Closed)
URL:https://www.saintannesdayschool.com/event/educator-work-day-2-2/
END:VEVENT
BEGIN:VEVENT
DTSTART;TZID=America/New_York:20251219T000000
DTEND;TZID=America/New_York:20251219T235959
DTSTAMP:20260421T201728
CREATED:20250820T162610Z
LAST-MODIFIED:20250820T162612Z
UID:5815-1766102400-1766188799@www.saintannesdayschool.com
SUMMARY:Christmas Break begins
DESCRIPTION:(School Age/MB open)
URL:https://www.saintannesdayschool.com/event/christmas-break-begins-2/
END:VEVENT
BEGIN:VEVENT
DTSTART;TZID=America/New_York:20251218T000000
DTEND;TZID=America/New_York:20251218T235959
DTSTAMP:20260421T201728
CREATED:20250820T162538Z
LAST-MODIFIED:20250820T162539Z
UID:5813-1766016000-1766102399@www.saintannesdayschool.com
SUMMARY:Last Day of School\, Early Dismissal for TK Bridge (12:25 dismissal)
DESCRIPTION:Staff Christmas Celebration (NO Weekly/Group 1; School Age/APS open)
URL:https://www.saintannesdayschool.com/event/last-day-of-school-early-dismissal-for-tk-bridge-1225-dismissal/
END:VEVENT
BEGIN:VEVENT
DTSTART;TZID=America/New_York:20251211T000000
DTEND;TZID=America/New_York:20251211T235959
DTSTAMP:20260421T201728
CREATED:20250820T162435Z
LAST-MODIFIED:20250820T162437Z
UID:5811-1765411200-1765497599@www.saintannesdayschool.com
SUMMARY:Christmas Program
DESCRIPTION:(Pre-K and TK Classes and parents)
URL:https://www.saintannesdayschool.com/event/christmas-program/
END:VEVENT
BEGIN:VEVENT
DTSTART;TZID=America/New_York:20251204T000000
DTEND;TZID=America/New_York:20251204T235959
DTSTAMP:20260421T201728
CREATED:20250820T161932Z
LAST-MODIFIED:20250820T161933Z
UID:5809-1764806400-1764892799@www.saintannesdayschool.com
SUMMARY:Registration for Winter Specials Classes opens
DESCRIPTION:
URL:https://www.saintannesdayschool.com/event/registration-for-winter-specials-classes-opens/
END:VEVENT
BEGIN:VEVENT
DTSTART;TZID=America/New_York:20251124T000000
DTEND;TZID=America/New_York:20251128T235959
DTSTAMP:20260421T201728
CREATED:20250820T161902Z
LAST-MODIFIED:20250820T161904Z
UID:5807-1763942400-1764374399@www.saintannesdayschool.com
SUMMARY:Thanksgiving Break
DESCRIPTION:(Day School and All Enrichment Programs Closed)
URL:https://www.saintannesdayschool.com/event/thanksgiving-break/
END:VEVENT
BEGIN:VEVENT
DTSTART;TZID=America/New_York:20251120T122500
DTEND;TZID=America/New_York:20251120T123000
DTSTAMP:20260421T201728
CREATED:20250820T161833Z
LAST-MODIFIED:20250820T161834Z
UID:5805-1763641500-1763641800@www.saintannesdayschool.com
SUMMARY:Early Dismissal for TK Bridge
DESCRIPTION:Staff Meeting
URL:https://www.saintannesdayschool.com/event/early-dismissal-for-tk-bridge/
END:VEVENT
BEGIN:VEVENT
DTSTART;TZID=America/New_York:20251109T000000
DTEND;TZID=America/New_York:20251109T235959
DTSTAMP:20260421T201728
CREATED:20250820T161746Z
LAST-MODIFIED:20250820T161746Z
UID:5803-1762646400-1762732799@www.saintannesdayschool.com
SUMMARY:Day School Sunday at Saint Anne’s Episcopal Church
DESCRIPTION:
URL:https://www.saintannesdayschool.com/event/day-school-sunday-at-saint-annes-episcopal-church/
END:VEVENT
BEGIN:VEVENT
DTSTART;TZID=America/New_York:20251104T080000
DTEND;TZID=America/New_York:20251105T170000
DTSTAMP:20260421T201728
CREATED:20250820T161724Z
LAST-MODIFIED:20250820T161726Z
UID:5801-1762243200-1762362000@www.saintannesdayschool.com
SUMMARY:Parent/Educator Conferences
DESCRIPTION:(Day School Closed; Enrichment Programs – Weekly/Group 1 open; NO Specials; School Age/APS Closed for Election Day)
URL:https://www.saintannesdayschool.com/event/parent-educator-conferences/
END:VEVENT
BEGIN:VEVENT
DTSTART;TZID=America/New_York:20251031T091500
DTEND;TZID=America/New_York:20251031T101500
DTSTAMP:20260421T201728
CREATED:20250820T155809Z
LAST-MODIFIED:20250820T155810Z
UID:5799-1761902100-1761905700@www.saintannesdayschool.com
SUMMARY:Halloween Parade
DESCRIPTION:
URL:https://www.saintannesdayschool.com/event/halloween-parade-3/
END:VEVENT
BEGIN:VEVENT
DTSTART;TZID=America/New_York:20251013T000000
DTEND;TZID=America/New_York:20251014T235959
DTSTAMP:20260421T201728
CREATED:20250820T155735Z
LAST-MODIFIED:20250820T155736Z
UID:5797-1760313600-1760486399@www.saintannesdayschool.com
SUMMARY:Fall Break
DESCRIPTION:(Day School and All Enrichment Programs Closed)
URL:https://www.saintannesdayschool.com/event/fall-break/
END:VEVENT
BEGIN:VEVENT
DTSTART;TZID=America/New_York:20251010T000000
DTEND;TZID=America/New_York:20251010T235959
DTSTAMP:20260421T201728
CREATED:20250820T155651Z
LAST-MODIFIED:20250820T163053Z
UID:5795-1760054400-1760140799@www.saintannesdayschool.com
SUMMARY:Educator Work Day
DESCRIPTION:(Day School Closed; Enrichment Programs – Weekly/Group 1 and School Age Open)
URL:https://www.saintannesdayschool.com/event/educator-work-day-7/
END:VEVENT
BEGIN:VEVENT
DTSTART;TZID=America/New_York:20251009T160000
DTEND;TZID=America/New_York:20251009T180000
DTSTAMP:20260421T201728
CREATED:20250820T155611Z
LAST-MODIFIED:20250820T155612Z
UID:5793-1760025600-1760032800@www.saintannesdayschool.com
SUMMARY:Family Fall Festival
DESCRIPTION:(Enrichment Programs closes at 3:30)
URL:https://www.saintannesdayschool.com/event/family-fall-festival/
END:VEVENT
BEGIN:VEVENT
DTSTART;TZID=America/New_York:20250926T000000
DTEND;TZID=America/New_York:20250926T235959
DTSTAMP:20260421T201728
CREATED:20250819T142909Z
LAST-MODIFIED:20250820T155419Z
UID:5638-1758844800-1758931199@www.saintannesdayschool.com
SUMMARY:Educator Work Day
DESCRIPTION:(Day School Closed; Enrichment Programs –  \n\n\n\nWeekly/Group 1 and School Age Open)
URL:https://www.saintannesdayschool.com/event/educator-work-day-5/
END:VEVENT
BEGIN:VEVENT
DTSTART;TZID=America/New_York:20250925T180000
DTEND;TZID=America/New_York:20250925T200000
DTSTAMP:20260421T201728
CREATED:20250819T142845Z
LAST-MODIFIED:20250819T142847Z
UID:5636-1758823200-1758830400@www.saintannesdayschool.com
SUMMARY:Parent Night
DESCRIPTION:
URL:https://www.saintannesdayschool.com/event/parent-night-5/
END:VEVENT
BEGIN:VEVENT
DTSTART;TZID=America/New_York:20250901T000000
DTEND;TZID=America/New_York:20250901T235959
DTSTAMP:20260421T201728
CREATED:20250819T142804Z
LAST-MODIFIED:20250819T142805Z
UID:5634-1756684800-1756771199@www.saintannesdayschool.com
SUMMARY:Labor Day
DESCRIPTION:(Day School and All Enrichment Programs Closed)
URL:https://www.saintannesdayschool.com/event/labor-day/
END:VEVENT
BEGIN:VEVENT
DTSTART;TZID=America/New_York:20250829T090000
DTEND;TZID=America/New_York:20250829T110000
DTSTAMP:20260421T201728
CREATED:20250819T142740Z
LAST-MODIFIED:20250819T142741Z
UID:5632-1756458000-1756465200@www.saintannesdayschool.com
SUMMARY:Biscuits with Biscuits Parent Mixer
DESCRIPTION:
URL:https://www.saintannesdayschool.com/event/biscuits-with-biscuits-parent-mixer/
END:VEVENT
BEGIN:VEVENT
DTSTART;TZID=America/New_York:20250828T000000
DTEND;TZID=America/New_York:20250828T235959
DTSTAMP:20260421T201728
CREATED:20250819T142657Z
LAST-MODIFIED:20250819T142658Z
UID:5630-1756339200-1756425599@www.saintannesdayschool.com
SUMMARY:Registration for Fall Specials Classes opens
DESCRIPTION:
URL:https://www.saintannesdayschool.com/event/registration-for-fall-specials-classes-opens/
END:VEVENT
BEGIN:VEVENT
DTSTART;TZID=America/New_York:20250821T000000
DTEND;TZID=America/New_York:20250821T235959
DTSTAMP:20260421T201728
CREATED:20250819T142641Z
LAST-MODIFIED:20250819T142642Z
UID:5628-1755734400-1755820799@www.saintannesdayschool.com
SUMMARY:First day of Day School (2-day)
DESCRIPTION:
URL:https://www.saintannesdayschool.com/event/first-day-of-day-school-2-day/
END:VEVENT
BEGIN:VEVENT
DTSTART;TZID=America/New_York:20250820T000000
DTEND;TZID=America/New_York:20250820T235959
DTSTAMP:20260421T201728
CREATED:20250819T142625Z
LAST-MODIFIED:20250819T142626Z
UID:5626-1755648000-1755734399@www.saintannesdayschool.com
SUMMARY:First day of Day School (5-day/3-day)
DESCRIPTION:
URL:https://www.saintannesdayschool.com/event/first-day-of-day-school-5-day-3-day/
END:VEVENT
END:VCALENDAR